BEGIN:VCALENDAR
VERSION:2.0
PRODID:-//Entre Ciel et Terre - Groupe vocal gospel - ECPv6.2.6//NONSGML v1.0//EN
CALSCALE:GREGORIAN
METHOD:PUBLISH
X-WR-CALNAME:Entre Ciel et Terre - Groupe vocal gospel
X-ORIGINAL-URL:http://entreciel.fr
X-WR-CALDESC:évènements pour Entre Ciel et Terre - Groupe vocal gospel
REFRESH-INTERVAL;VALUE=DURATION:PT1H
X-Robots-Tag:noindex
X-PUBLISHED-TTL:PT1H
BEGIN:VTIMEZONE
TZID:Europe/Helsinki
BEGIN:DAYLIGHT
TZOFFSETFROM:+0200
TZOFFSETTO:+0300
TZNAME:EEST
DTSTART:20210328T010000
END:DAYLIGHT
BEGIN:STANDARD
TZOFFSETFROM:+0300
TZOFFSETTO:+0200
TZNAME:EET
DTSTART:20211031T010000
END:STANDARD
BEGIN:DAYLIGHT
TZOFFSETFROM:+0200
TZOFFSETTO:+0300
TZNAME:EEST
DTSTART:20220327T010000
END:DAYLIGHT
BEGIN:STANDARD
TZOFFSETFROM:+0300
TZOFFSETTO:+0200
TZNAME:EET
DTSTART:20221030T010000
END:STANDARD
BEGIN:DAYLIGHT
TZOFFSETFROM:+0200
TZOFFSETTO:+0300
TZNAME:EEST
DTSTART:20230326T010000
END:DAYLIGHT
BEGIN:STANDARD
TZOFFSETFROM:+0300
TZOFFSETTO:+0200
TZNAME:EET
DTSTART:20231029T010000
END:STANDARD
TZID:UTC
BEGIN:STANDARD
TZOFFSETFROM:+0000
TZOFFSETTO:+0000
TZNAME:UTC
DTSTART:20160101T000000
END:STANDARD
END:VTIMEZONE
BEGIN:VEVENT
DTSTART;TZID=Europe/Helsinki:20230916T110000
DTEND;TZID=Europe/Helsinki:20230916T110000
DTSTAMP:20260421T145027
CREATED:20230803T182544Z
LAST-MODIFIED:20230803T185526Z
UID:2069-1694862000-1694862000@entreciel.fr
SUMMARY:Concert gospel à Chiroubles (69) au cœur du festival JazzFest'
DESCRIPTION:C’EST LA REPRISE ! 🎶 \nPour notre premier concert de la saison 2023/2024\, nous sommes invités au JazzFest’\, le nouveau festival de jazz\, de musiques émergentes et de vin\, dans le cadre naturel incroyable du Beaujolais\, entre vignobles et montagnes ! \n📆 Samedi 16 septembre 2023\n⏰ 11h00\n📍 Eglise de Chiroubles (69) \nÀ très vite ! 🎶
URL:http://entreciel.fr/concert/concert-gospel-a-chiroubles-69-au-coeur-du-festival-jazzfest/
CATEGORIES:concert gospel
ATTACH;FMTTYPE=image/jpeg:http://entreciel.fr/wp-content/uploads/2023/08/jazzfest.jpg
END:VEVENT
BEGIN:VEVENT
DTSTART;VALUE=DATE:20211218
DTEND;VALUE=DATE:20211219
DTSTAMP:20260421T145027
CREATED:20211030T194111Z
LAST-MODIFIED:20220921T191933Z
UID:1628-1639785600-1639871999@entreciel.fr
SUMMARY:Masterclass et concert gospel à Amplepuis (69)
DESCRIPTION:Samedi 18 décembre 2021\, retrouvez-nous salle Georges Bourbon à Amplepuis (69) au profit de l’association SOLARE : \n\nMasterclass : vous avez envie de (re)découvrir le chant gospel ? Venez apprendre quelques titres avec nous de 14h à 16h30 !\nConcert gospel Entre Ciel et Terre à 20h30 (ouverture des portes à 20h).\n\nUn événement solidaire\, puisque le produit des entrées sera 100% reversé à l’association SOLARE pour soutenir ses actions auprès des personnes réfugiées du territoire. \n  \nTARIFS \nEntrée concert adulte : 10 €\nEntrée concert moins de 18 ans : 5 €\nMasterclass + entrée concert : 15 € \nBILLETTERIE \nAchat des entrées en ligne (pour la masterclass et/ou le concert) https://www.helloasso.com/associations/solare/evenements/concert-gospel-entre-ciel-et-terre ou sur place (pour le concert) dès 20h. \nPROTOCOLE SANITAIRE \nPrésentation du « pass sanitaire » et port du masque obligatoires. \nORGANISATION \nAssociation Solidarité dans l’Ouest Lyonnais pour l’Accueil des Réfugiés et Exilés\nContact : 06 84 21 39 16 – fournieryve@gmail.com \nL’événement bénéficie du soutien de Comme à la maison.
URL:http://entreciel.fr/concert/masterclass-et-concert-gospel-a-amplepuis-69/
LOCATION:Salle Georges Bourbon 69550 AMPLEPUIS\, Chemin de Bagatelle\, Amplepuis\, 69550\, France
CATEGORIES:concert gospel,masterclass
END:VEVENT
BEGIN:VEVENT
DTSTART;TZID=UTC:20210925T180000
DTEND;TZID=UTC:20210925T223000
DTSTAMP:20260421T145027
CREATED:20210804T132401Z
LAST-MODIFIED:20211030T191817Z
UID:1416-1632592800-1632609000@entreciel.fr
SUMMARY:Concert gospel au Lyon Gospel Festival
DESCRIPTION:Après plus d’un an sans concert\, nous serons de retour sur scène le samedi 25 septembre à Lyon\, dans la programmation du Lyon Gospel Festival 🥳 – festival qui accueillera également China Moses \, Tony Kazima et Gospel Shine. \n🗓 Samedi 25 Septembre 2021\n🕘 18h00 – 22h30\n📍 Salle Molière \n💡 Pensez à réserver vos places !\nEntrée pour les 3 concerts : 45 euros\nBilletterie : https://www.helloasso.com/associations/lyon-gospel-festival/evenements/lyon-gospel-festival-29-30-mai-2021-2\n \nGospel Festival Lyon 2021
URL:http://entreciel.fr/concert/concert-gospel-au-lyon-gospel-festival/
LOCATION:Salle Molière\, 20 Quai de Bondy\, Lyon\, 69005
CATEGORIES:concert gospel
END:VEVENT
BEGIN:VEVENT
DTSTART;TZID=UTC:20200215T200000
DTEND;TZID=UTC:20200215T200000
DTSTAMP:20260421T145027
CREATED:20200124T120032Z
LAST-MODIFIED:20200124T120136Z
UID:1238-1581796800-1581796800@entreciel.fr
SUMMARY:Concert gospel à Marcy (69)
DESCRIPTION:Samedi 15 février 2020 à 20h00\, concert gospel Entre Ciel et Terre à la salle d’animation de Marcy (69480)\, proposé proposé par la Municipalité de Marcy. \nEntrée 5 € • Gratuit pour les moins de 12 ans \nVente des billets sur place de 19h à 19h45 (150 places disponibles)
URL:http://entreciel.fr/concert/concert-gospel-a-marcy-69/
LOCATION:Salle d’animation\, Marcy\, Marcy\, 69480
CATEGORIES:concert gospel
END:VEVENT
BEGIN:VEVENT
DTSTART;TZID=UTC:20200125T203000
DTEND;TZID=UTC:20200125T203000
DTSTAMP:20260421T145027
CREATED:20190830T181849Z
LAST-MODIFIED:20200124T115626Z
UID:1120-1579984200-1579984200@entreciel.fr
SUMMARY:Concert gospel à Brussieu (69)
DESCRIPTION:Samedi 25 janvier 2020 à 20h30\, concert gospel Entre Ciel et Terre à la salle des fêtes de Brussieu (69)\, organisé par la Classe en 0 de Brussieu.\n \nBuvette sur place ! \nPrix des entrées : \n\nPlein tarif : 12 €\nEnfants de 7 à 10 ans : 8 €\nEnfants de 6 ans et moins : gratuit\n\nBilletterie chez les commerçants de Brussieu : Pascale Coiffure\, Proxi-Vival \nRenseignements : 06 04 18 13 66
URL:http://entreciel.fr/concert/concert-gospel-a-brussieu-69/
LOCATION:Salle des fêtes\, Brussieu\, Quartier Chambost\, BRUSSIEU\, 69690
CATEGORIES:concert gospel
END:VEVENT
BEGIN:VEVENT
DTSTART;TZID=UTC:20191214T200000
DTEND;TZID=UTC:20191214T200000
DTSTAMP:20260421T145027
CREATED:20191115T074946Z
LAST-MODIFIED:20191115T080820Z
UID:1204-1576353600-1576353600@entreciel.fr
SUMMARY:Concert gospel de Noël solidaire à Lyon (69)
DESCRIPTION:Samedi 14 décembre 2019 à 20h00 en l’Église Notre Dame du Point du Jour à Lyon 5e\, concert gospel des chœurs Gospel Soul et Entre Ciel et Terre\, organisé au profit de l’association Aidons Marina – membre de la Fédération Grandir Sans Cancer. \nUn concert de fin d’année sous le signe du partage et de la solidarité ! \nLes groupes Gospel Soul et Entre Ciel et Terre s’associent en cette période de Noël afin de vous offrir le meilleur du gospel ! Entre chants gospel traditionnels et modernes\, chants africains et aussi chants de Noël\, venez découvrir un répertoire varié et original\, vibrant d’énergies positives et de bonnes ondes. \nVenez prendre votre dose de bonne humeur et vous préparer comme il se doit à l’ambiance chaleureuse des fêtes de fin d’année ! \nEntrée : 10 euros + libre don (gratuit pour les moins de 12 ans). Les bénéfices de la soirée seront intégralement reversés à l’association Aidons Marina. \nBilletterie sur place\, ou réservation en ligne ci-dessous.\n \n 
URL:http://entreciel.fr/concert/concert-gospel-de-noel-solidaire-a-lyon-69/
LOCATION:Eglise Notre Dame du Point du Jour\, 20 rue des acqueducs\, Lyon\, 69005
CATEGORIES:concert gospel
END:VEVENT
BEGIN:VEVENT
DTSTART;VALUE=DATE:20191130
DTEND;VALUE=DATE:20191201
DTSTAMP:20260421T145027
CREATED:20190830T181705Z
LAST-MODIFIED:20191015T175255Z
UID:1118-1575072000-1575158399@entreciel.fr
SUMMARY:Master class & concert gospel à Cailloux-sur-Fontaine (69)
DESCRIPTION:Samedi 30 novembre 2019\, Entre Ciel et Terre animera une master class gospel\, avant son concert à 20h30 la salle La Vallonnière de Cailloux-sur-Fontaine (69). Un événement organisé à l’occasion des 160 ans de la Société Musicale de Cailloux 🎂 !\n \nMASTER CLASS à partir de 9h30\n \nAtelier chant ouvert à tous les adultes qui aiment chanter ! \n\nAccueil : 9h30 à la salle de la Vallonnière\nMaster class : 10h/12h et 13h30/16h\nRepas de midi tiré du sac\, café /thé offerts\nConcert à 20h30 dans la salle de la Vallonnière : présence indispensable des participants de la master class\, afin d’interpréter avec Entre Ciel et Terre les chants appris au cours de la journée. Billet d’entrée du concert distribué le matin.\n\nTarifs master-class + concert : \n\n15€ pour les membres de la Société Musicale de Cailloux-sur-Fontaines\n25€ pour les personnes non-membres\n\nInscription avant le 20 novembre 2019 : consulter le bulletin d’inscription \nCONCERT à 20h30\n \nTarifs concert  : \n\nAdulte et enfant à partir de 12 ans : 10 €\nÉlève de l’école de musique de Cailloux ou enfant de moins de 12 ans : 5 €\n\nBilletterie en ligne : https://www.helloasso.com/associations/societe-musicale-de-cailloux/evenements/concert-gospel-entre-ciel-et-terre \nRenseignements : societemusicaledecailloux@hotmail.fr
URL:http://entreciel.fr/concert/masterclass-concert-gospel-a-cailloux-sur-fontaine-69/
LOCATION:Salle La Vallonnière\, 360 rue des Prolières\, Cailloux-sur-Fontaines\, 69270
CATEGORIES:concert gospel,masterclass
END:VEVENT
BEGIN:VEVENT
DTSTART;TZID=UTC:20191012T203000
DTEND;TZID=UTC:20191012T203000
DTSTAMP:20260421T145027
CREATED:20190830T181215Z
LAST-MODIFIED:20190924T162531Z
UID:1115-1570912200-1570912200@entreciel.fr
SUMMARY:Concert gospel à Tarare (69)
DESCRIPTION:Samedi 12 octobre 2019\, concert gospel Entre Ciel et Terre au théâtre municipal de Tarare (69) pour le lancement de la saison 2019-2020 du groupe vocal ! ♫\n \nTarifs : \n\n0-5 ans : gratuit\n6-11 ans : 8 €\n12 ans et + : 12 €\n\nPlacement libre. Ouverture des portes à 20h00. \nBillets en vente à la boutique Photo Etienne\, 1 place de la Madeleine à Tarare. \nBilletterie en ligne ci-dessous : \nVente de billets en ligne
URL:http://entreciel.fr/concert/concert-gospel-a-tarare-69-octobre-2019/
LOCATION:Théâtre de Tarare\, 5 Place G.A. Simonet\, Tarare\, 69170\, France
CATEGORIES:concert gospel
END:VEVENT
BEGIN:VEVENT
DTSTART;TZID=UTC:20190323T200000
DTEND;TZID=UTC:20190323T200000
DTSTAMP:20260421T145027
CREATED:20190128T102551Z
LAST-MODIFIED:20190128T102707Z
UID:1054-1553371200-1553371200@entreciel.fr
SUMMARY:Concert gospel à Marcy l'Étoile (69)
DESCRIPTION:Samedi 23 mars 2019 à 20h00\, concert gospel Entre Ciel et Terre à la salle des fêtes de Marcy l’Étoile (69)\, dans le cadre du Festival Les Nuits du Loup. \nTarif : 10 € (+ frais de location en ligne)\nBilletterie : https://nuitsduloup.mapado.com/event/marcy-letoile/entre-ciel-et-terre
URL:http://entreciel.fr/concert/concert-gospel-a-marcy-letoile-69/
LOCATION:salle des fêtes\, marcy l’étoile\, Place Fleury Lancelin\, Marcy l'étoile\, 69280
CATEGORIES:concert gospel
END:VEVENT
BEGIN:VEVENT
DTSTART;TZID=UTC:20190126T203000
DTEND;TZID=UTC:20190126T203000
DTSTAMP:20260421T145027
CREATED:20180904T100344Z
LAST-MODIFIED:20190110T122849Z
UID:991-1548534600-1548534600@entreciel.fr
SUMMARY:Concert gospel à Champagne-au-Mont-d'Or (69)
DESCRIPTION:Samedi 26 janvier 2019 à 20h30\, concert gospel Entre Ciel et Terre à l’Espace Monts d’Or de Champagne-au-Mont-d’Or (69)\, dans le cadre de la programmation culturelle. \nTarifs (placement libre) :\n– Plein tarif 12 €\n– Tarif réduit 10 € (étudiants\, enfants de 11 à 18 ans\, plus de 65 ans\, demandeurs d’emploi\, handicapés)\n– Tarif abonné saison culturelle 8 €\n– Gratuit moins de 11 ans \nBilletterie :\n– Sur place\, la billetterie est ouverte 30 minutes avant le début du spectacle\n– En mairie de Champagne-au-Mont-d’Or\n– Autres points de vente : Fnac – Carrefour – Géant – Magasins U – Intermarché\nwww.fnac.com –  www.carrefour.fr – www.francebillet.com
URL:http://entreciel.fr/concert/concert-gospel-a-champagne-au-mont-dor-69/
LOCATION:Espace Monts d’Or\, 15 chemin des Anciennes Vignes\, Champagne-au-Mont-d'Or\, 69410
CATEGORIES:concert gospel
END:VEVENT
BEGIN:VEVENT
DTSTART;TZID=UTC:20181201T203000
DTEND;TZID=UTC:20181201T203000
DTSTAMP:20260421T145027
CREATED:20180904T095841Z
LAST-MODIFIED:20180904T100133Z
UID:987-1543696200-1543696200@entreciel.fr
SUMMARY:Concert gospel à Les Sauvages (69)
DESCRIPTION:Concert gospel Entre Ciel et Terre de Noël le samedi 1er décembre 2018 à 20h30 à la salle des fêtes de Les Sauvages (69). \nPlus d’infos très bientôt !
URL:http://entreciel.fr/concert/concert-gospel-a-les-sauvages-69/
CATEGORIES:concert gospel
END:VEVENT
BEGIN:VEVENT
DTSTART;TZID=UTC:20181110T203000
DTEND;TZID=UTC:20181110T203000
DTSTAMP:20260421T145027
CREATED:20180904T095522Z
LAST-MODIFIED:20181103T143638Z
UID:984-1541881800-1541881800@entreciel.fr
SUMMARY:Concert gospel à L'Arbresle (69)
DESCRIPTION:Concert gospel Entre Ciel et Terre le samedi 10 novembre 2018 à 20h30 à la salle Claude Terrasse de L’Arbresle (69)\, organisé par L’Union Arbresloise à l’occasion de sa traditionnelle soirée d’automne. \nTarifs : \nAdultes : 14 €\nEnfant (- 12 ans) : 7 € \nAchat des billets :\n– à l’Office de tourisme du 2 octobre au 10 novembre (mardi\, mercredi\, vendredi\, samedi)\n– sur place le soir du concert
URL:http://entreciel.fr/concert/concert-gospel-a-larbresle-69-2/
LOCATION:Salle Claude Terrasse\, 143 Rue de Paris\, L'Arbresle\, 69210\, France
CATEGORIES:concert gospel
END:VEVENT
BEGIN:VEVENT
DTSTART;TZID=UTC:20181006T203000
DTEND;TZID=UTC:20181006T203000
DTSTAMP:20260421T145027
CREATED:20180904T095026Z
LAST-MODIFIED:20180904T095154Z
UID:978-1538857800-1538857800@entreciel.fr
SUMMARY:Concert gospel à Irigny (69)
DESCRIPTION:Samedi 6 octobre 2018 à 20h30 à la salle La Pastorale à Irigny\, concert exceptionnel à l’occasion des 30 ans de la chorale lyonnaise Viva la vida\, avec la participation d’Ornella Pierre et du groupe vocal gospel Entre Ciel et Terre ! \nPrix des places : 14€ adulte / 10€ enfant (moins de 12 ans) \nInfos sur la page Facebook de l’événement !
URL:http://entreciel.fr/concert/concert-gospel-a-irigny/
LOCATION:La Pastorale\, Rue de Boutan\, Irigny\, 69540\, France
CATEGORIES:concert gospel
END:VEVENT
BEGIN:VEVENT
DTSTART;TZID=UTC:20180707T140000
DTEND;TZID=UTC:20180707T173000
DTSTAMP:20260421T145027
CREATED:20180612T164009Z
LAST-MODIFIED:20180904T093621Z
UID:949-1530972000-1530984600@entreciel.fr
SUMMARY:Concert gospel à Tarare (69)
DESCRIPTION:Samedi 7 juillet 2018 de 14h à 17h30\, grand concert au centre nautique Aquaval à Tarare (69) avec le groupe vocal Entre Ciel et Terre et les élèves de l’EMDI – École de Musique et de Danse Intercommunale de la Communauté d’agglomération de l’Ouest Rhodanien (COR). \nAdresse\nAquaval – 95 boulevard Robert Michon 69170 Tarare \nTarifs\nPrix entrée piscine\n>> guide des tarifs Aquaval 2017-2018 \nModalités\n– Tenue de bain obligatoire\n– Concert prévu dans le parc\, entrée obligatoire par le bassin\n– Possibilité de pique-niquer\n– Annulation en cas de pluie \nRenseignements\n04 74 05 04 00 ou aquaval@c-or.fr \n 
URL:http://entreciel.fr/concert/concert-gospel-a-tarare-69/
LOCATION:Aquaval\, 95 boulevard Robert Michon\, Tarare\, 69170\, France
CATEGORIES:concert gospel
END:VEVENT
BEGIN:VEVENT
DTSTART;TZID=UTC:20180616T210000
DTEND;TZID=UTC:20180616T210000
DTSTAMP:20260421T145027
CREATED:20180319T085014Z
LAST-MODIFIED:20180319T085927Z
UID:923-1529182800-1529182800@entreciel.fr
SUMMARY:Concert gospel à Saint-Romain-en-Gal (69) en 1ère partie du grand concert "Faites de la musique !"
DESCRIPTION:Samedi 16 juin 2018 à 21h : grand concert « Faites de la musique ! » en plein air dans le parc du Musée Gallo-Romain à St-Romain-en-Gal\, avec Entre Ciel et Terre en première partie !  \nFaites de la musique est un projet porté par l’Association pour le Rassemblement des Musiciens du Rhône. \nAvec le soutien du Département du Rhône\, des chefs de musique (dont Alexandre Girin d’Entre Ciel et Terre) ont souhaité se réunir pour proposer\, à qui le souhaitera\, une facette de leur répertoire de prédilection (gospel\, chanson française\, classique…)\, le temps de 4 répétitions et d’un grand concert. \nFAITES DE LA MUSIQUE = 250 choristes + 1 orchestre symphonique de 80 musiciens + 3 chefs pour 3 univers musicaux + 4 répétitions + 1 spectacle dans un lieu prestigieux !\n \n \nEn savoir plus : www.faitesdelamusique.org
URL:http://entreciel.fr/concert/concert-gospel-a-saint-romain-en-gal-69-en-1ere-partie-du-grand-concert-faites-de-la-musique/
LOCATION:Musée Gallo-Romain – St-Romain-en-Gal\, Route Départementale 386\, Saint-Romain-en-Gal\, 69560
CATEGORIES:concert gospel
END:VEVENT
BEGIN:VEVENT
DTSTART;TZID=UTC:20180407T203000
DTEND;TZID=UTC:20180407T203000
DTSTAMP:20260421T145027
CREATED:20180319T083048Z
LAST-MODIFIED:20180319T085909Z
UID:906-1523133000-1523133000@entreciel.fr
SUMMARY:Concert gospel à Lyon (69)
DESCRIPTION:Samedi 7 avril 2018 à 20h30\, concert gospel Entre Ciel et Terre au Temple du Change à Lyon (situé Place du Change dans le Vieux-Lyon). \nEntrée libre avec une participation minimum de 5 € : une partie des bénéfices sera reversée à une association soutenue par Entre Ciel et Terre ! \nRéservez dès maintenant vos billets ci-dessous ! \nVente de billets en ligne
URL:http://entreciel.fr/concert/concert-gospel-a-lyon-69/
LOCATION:Lyon Temple du Change\, Place du Change\, Lyon\, 69005\, France
CATEGORIES:concert gospel
END:VEVENT
BEGIN:VEVENT
DTSTART;TZID=UTC:20180310T203000
DTEND;TZID=UTC:20180310T203000
DTSTAMP:20260421T145027
CREATED:20180122T121747Z
LAST-MODIFIED:20180129T061335Z
UID:876-1520713800-1520713800@entreciel.fr
SUMMARY:Concert gospel à Saint-Forgeux (69)
DESCRIPTION:Samedi 10 mars 2018 à 20h30\, concert gospel Entre Ciel et Terre organisé à la salle polyvalente de Saint-Forgeux (69) par les Compagnons du Burkina. \nAprès 3 concerts donnés à Malaucène et Vaison-la-Romaine en 2010\, 2011 et 2012\, Entre Ciel et Terre chante à nouveau pour cette association qui œuvre pour le développement du village de Passakongo (toutes les informations sur leur site http://compagnonsduburkina.wixsite.com/asso). \n\nRenseignements et réservations \n\nEN LIGNE ci-dessous\nPAR TÉLÉPHONE : 06 89 07 56 55\n\n\nTarifs \n\nPré-ventes : 10€ / 8€ pour les – 12 ans \nSur place : 12€ / 10 € pour les – 12 ans \n\n\nVente de billets en ligne
URL:http://entreciel.fr/concert/concert-gospel-a-saint-forgeux-69/
CATEGORIES:concert gospel
END:VEVENT
BEGIN:VEVENT
DTSTART;TZID=UTC:20180113T203000
DTEND;TZID=UTC:20180113T203000
DTSTAMP:20260421T145027
CREATED:20170911T101230Z
LAST-MODIFIED:20171109T081405Z
UID:765-1515875400-1515875400@entreciel.fr
SUMMARY:Concert gospel à Dardilly (69)
DESCRIPTION:Samedi 13 janvier 2018\, concert gospel Entre Ciel et Terre organisé à L’Aqueduc à Dardilly (69) au profit de l’association Aidons Marina. \n\nL’association se bat pour les droits des enfants atteints d’un cancer. \n\nPromotion et accompagnement de toute action ou projet contribuant à faire avancer la recherche au bénéfice des cancers pédiatriques\, et plus particulièrement pour les cancers rares\nSoutien aux enfants malades et à leurs familles\, de manière individuelle ou dans le cadre d’actions collectives\nSoutien aux associations qui œuvrent aux côtés des enfants malades\n\nhttp://aidonsmarina.com\nhttps://www.facebook.com/Aidons-Marina-518206984918834 \n\nRenseignements et réservations \n\nEN LIGNE ci-dessous\nPAR MAIL : contact@aidonsmarina.com \nPAR TELEPHONE : 06 60 39 93 03\n\nTarifs \n\nPré-ventes : 12€ / 8€ pour les – 18 ans \nSur place : 15€ / 10 € pour les – 18 ans \n\nBoissons et restauration sur place !\n \nVente de billets en ligne \n\nEnregistrer \nEnregistrer
URL:http://entreciel.fr/concert/concert-gospel-a-dardilly-69/
LOCATION:L’Aqueduc\, 59 Chemin de la Liasse\, Dardilly\, 69570\, France
CATEGORIES:concert gospel
END:VEVENT
BEGIN:VEVENT
DTSTART;TZID=UTC:20171216T203000
DTEND;TZID=UTC:20171216T203000
DTSTAMP:20260421T145027
CREATED:20170911T100910Z
LAST-MODIFIED:20171126T104214Z
UID:762-1513456200-1513456200@entreciel.fr
SUMMARY:Concert gospel à Thizy-les-Bourgs (69)
DESCRIPTION:Samedi 16 décembre 2017 à 20h30\, concert gospel Entre Ciel et Terre en l’église Notre-Dame de Thizy-les-Bourgs (69). \nUn concert de Noël organisé par la Municipalité de Thizy.\n \nBilletterie sur place : tarif plein : 15 € | tarif réduit : 5 € | gratuit pour les moins de 12 ans. \n\nEnregistrer \nEnregistrer \nEnregistrer
URL:http://entreciel.fr/concert/concert-gospel-a-thizy-les-bourgs-69/
LOCATION:Eglise de Thizy-les-Bourgs\, Place de l'église\, Thizy-les-Bourgs\, 69240\, France
CATEGORIES:concert gospel
END:VEVENT
BEGIN:VEVENT
DTSTART;TZID=UTC:20171118T203000
DTEND;TZID=UTC:20171118T203000
DTSTAMP:20260421T145027
CREATED:20170911T100231Z
LAST-MODIFIED:20170927T063851Z
UID:757-1511037000-1511037000@entreciel.fr
SUMMARY:Concert gospel à Pontcharra-sur-Turdine (69)
DESCRIPTION:Samedi 18 novembre 2017 à 20h30\, concert gospel Entre Ciel et Terre organisé par le Sou des Écoles à salle de la Commanderie de Pontcharra-sur-Turdine (69). \nA noter\, la participation exceptionnelle de nos amis de Small Groove !! \n \n  \nTARIFS :\nTarif plein : 10€\nEnfants -12 ans : 5€ \nInfos et réservation auprès des organisateurs du concert :\nSou des Ecoles Amicale Laïque\nMail : sousdesecolespontcharra69@yahoo.fr \nFacebook : Le Sou d’Alice\nTel : 06 70 11 35 08 \n  \n> Lire l’article du 27/09/17 sur le concert : http://entreciel.fr/2017/09/27/notre-prochain-concert-sera-exceptionnel-sera-gospel-et-sera-groovy-aussi/ \n> Télécharger l’affiche du concert (fichier .pdf) : 2017-11-18_Affiche-ENTRE-CIEL-ET-GROOVE
URL:http://entreciel.fr/concert/concert-gospel-a-pontcharra-sur-turdine-69/
LOCATION:Salle de la Commanderie\, 30 rue de la Commanderie\, Pontcharra-sur-Turdine\, 69490\, France
CATEGORIES:concert gospel
END:VEVENT
BEGIN:VEVENT
DTSTART;TZID=UTC:20170603T213000
DTEND;TZID=UTC:20170603T230000
DTSTAMP:20260421T145027
CREATED:20170420T170939Z
LAST-MODIFIED:20170911T100522Z
UID:532-1496525400-1496530800@entreciel.fr
SUMMARY:Concert gospel anniversaire TWENTY #2 à Tarare (69)
DESCRIPTION:Premier des deux concerts gospel organisés le samedi 3 juin 2017 à Tarare (69)\, le concert TWENTY #2 d’Entre Ciel et Terre débutera à 21h30 à la Halle des marchés.\n \nTARIFS \nPlein tarif : 8 €\nRéduit (- 18 ans) : 5 € \nBILLETTERIE CLASSIQUE\n \nRéservez vos places auprès de l’Office du Tourisme du Beaujolais Vert : \n\nTarare – 04 74 63 06 65\nCublize – 04 74 89 58 03\nLamure-sur-Azergues – 04 74 03 13 26\n \nRetrouvez le programme de toutes les festivités de la journée du samedi 3 juin 2017 sur le site des Estivales de Tarare !\n \nBILLETTERIE EN LIGNE\n\n \nEnregistrer
URL:http://entreciel.fr/concert/concert-gospel-anniversaire-twenty-2-a-tarare-69/
LOCATION:Halle des marchés\, Halle des marchés\, Tarare\, 69170\, France
CATEGORIES:animation,concert gospel
END:VEVENT
BEGIN:VEVENT
DTSTART;TZID=UTC:20170603T193000
DTEND;TZID=UTC:20170603T210000
DTSTAMP:20260421T145027
CREATED:20170420T170802Z
LAST-MODIFIED:20170911T100527Z
UID:529-1496518200-1496523600@entreciel.fr
SUMMARY:Concert gospel anniversaire TWENTY #1 à Tarare (69)
DESCRIPTION:Premier des deux concerts gospel organisés le samedi 3 juin 2017 à Tarare (69)\, le concert TWENTY #1 d’Entre Ciel et Terre débutera à 19h30 à la Halle des marchés.\n \nTARIFS \nPlein tarif : 8 €\nRéduit (- 18 ans) : 5 € \nBILLETTERIE CLASSIQUE\n \nRéservez vos places auprès de l’Office du Tourisme du Beaujolais Vert : \n\nTarare – 04 74 63 06 65\nCublize – 04 74 89 58 03\nLamure-sur-Azergues – 04 74 03 13 26\n \nRetrouvez le programme de toutes les festivités de la journée du samedi 3 juin 2017 sur le site des Estivales de Tarare !\n \nBILLETTERIE EN LIGNE\n\n \nEnregistrer \nEnregistrer \nEnregistrer \nEnregistrer
URL:http://entreciel.fr/concert/concert-gospel-anniversaire-twenty-1-a-tarare-69/
LOCATION:Halle des marchés\, Halle des marchés\, Tarare\, 69170\, France
CATEGORIES:animation,concert gospel
END:VEVENT
BEGIN:VEVENT
DTSTART;VALUE=DATE:20170429
DTEND;VALUE=DATE:20170430
DTSTAMP:20260421T145027
CREATED:20170309T101226Z
LAST-MODIFIED:20170911T100535Z
UID:256-1493424000-1493510399@entreciel.fr
SUMMARY:Concert gospel à Saint-Romain-en-Gal (69)
DESCRIPTION:Samedi 29 avril 2017 à 18h30\, concert gospel Entre Ciel et Terre dans le hall du Musée Gallo-Romain de Saint-Romain-en-Gal (69). \n© Musée Gallo-Romain de St Romain en Gal \nLe Musée est ouvert jusqu’à 18h\, avec un accès est gratuit pour les enfants : n’hésitez pas à le visiter avant de découvrir à 18h30\, et en avant-première\, notre nouveau spectacle « TWENTY » ! \nComme le disent les organisateurs :\n « Le hall du musée sera métamorphosé en une véritable salle de concert où la mosaïque d’Hylas\, magnifique rideau de scène\, sera parée d’éclats de notes et de lumières.\n Un concert rare pour célébrer les 20 ans de passion partagée et de rencontres d’Entre Ciel et Terre à ne pas manquer.\n En concert\, leur bonne humeur est contagieuse et nous sommes sûrs que vous passerez un très bon moment. » \nSpectacle gratuit\n Sur réservation uniquement – jauge limitée. \nInformations et billetterie au 04 74 53 74 01. \n  \n  \n 
URL:http://entreciel.fr/concert/concerts-gospel-a-saint-romain-en-gal-69/
LOCATION:Musée gallo-romain\, Route Départementale 386\,  Saint-Romain-en-Gal\, 69560\, France
CATEGORIES:concert gospel
END:VEVENT
BEGIN:VEVENT
DTSTART;TZID=UTC:20170401T203000
DTEND;TZID=UTC:20170401T203000
DTSTAMP:20260421T145027
CREATED:20170101T183000Z
LAST-MODIFIED:20170911T100540Z
UID:160-1491078600-1491078600@entreciel.fr
SUMMARY:Concert gospel à L'Arbresle (69)
DESCRIPTION:  \nSamedi 1er avril 2017\, concert gospel Entre Ciel et Terre à 20h30 à la salle Claude Terrasse à L’Arbresle (69)\, organisé par l’Association Musicale de Champagnat et sa chorale\, avec le soutien de la Municipalité de l’Arbresle. \nPréventes au collège Champagnat : 8 € \nSur place : 10 € / enfants 5 € \nRenseignements et réservations : 06 62 33 63 44 – amc.champagnat@gmail.com
URL:http://entreciel.fr/concert/concert-gospel-a-larbresle-69/
LOCATION:Salle Claude Terrasse\, 143 Rue de Paris\, L'Arbresle\, 69210\, France
CATEGORIES:concert gospel
END:VEVENT
BEGIN:VEVENT
DTSTART;TZID=UTC:20170204T201500
DTEND;TZID=UTC:20170204T201500
DTSTAMP:20260421T145027
CREATED:20160914T181203Z
LAST-MODIFIED:20170911T100546Z
UID:66-1486239300-1486239300@entreciel.fr
SUMMARY:Concert gospel à Tarare (69)
DESCRIPTION:Samedi 4 février 2017 à 20h15\, concert gospel Entre Ciel et Terre à la salle Joseph Triomphe de Tarare (69) organisé par l’école Notre Dame de Bel Air. \nAvec en première partie exceptionnelle\, nos amis du brass band Small Groove ! \nTarifs :\n– en pré-vente : 10 € adultes\, 6 € enfants – de 12 ans\nPoints de vente : école/collège/lycée Notre Dame de Bel Air et librairie Elizéo à Tarare.\n– sur place : 13 € adultes\, 6 € enfants – de 12 ans \nVous pourrez à cette occasion réserver le nouvel album d’Entre Ciel et Terre à un tarif préférentiel. Il vous sera livré chez vous lors de sa sortie officielle (juin 2017) ! \nA très vite sur scène 🙂
URL:http://entreciel.fr/concert/concert-a-tarare/
LOCATION:Salle Joseph Triomphe\, salle joseph triomphe\, Tarare\, 69170\, France
CATEGORIES:concert gospel
END:VEVENT
BEGIN:VEVENT
DTSTART;TZID=UTC:20161119T203000
DTEND;TZID=UTC:20161119T203000
DTSTAMP:20260421T145027
CREATED:20160914T180627Z
LAST-MODIFIED:20170911T100605Z
UID:58-1479587400-1479587400@entreciel.fr
SUMMARY:Concert gospel à Les Olmes (69)
DESCRIPTION:Samedi 19 novembre 2016\, concert gospel Entre Ciel et Terre à l’église des Olmes (69) \n\n\n\n\n\n\n\n\n\n\n\n\n\n\nOrganisateur : Le comité des fêtes de Les Olmes\nOù ? Eglise Saint-Philibert\nQuand ? Samedi 19 novembre 2016\nQuelle heure ? 20h30 \nTarif adulte : 12€\nEnfant -10 ans : 6€ \nRéservations possibles\nTél. : 0631696214\nE-mail : cdflesolmes@gmail.com \nVous pourrez à cette occasion réserver le nouvel album d’Entre Ciel et Terre à un tarif préférentiel. Il vous sera livré lors de sa sortie officielle (juin 2017).
URL:http://entreciel.fr/concert/concert-aux-olmes/
LOCATION:le bourg\, Les Olmes\, 69490\, France
CATEGORIES:concert gospel
END:VEVENT
END:VCALENDAR